BEGIN:VCALENDAR
VERSION:2.0
PRODID:-//ChamberMaster//Event Calendar 2.0//EN
METHOD:PUBLISH
X-PUBLISHED-TTL:P3D
REFRESH-INTERVAL:P3D
CALSCALE:GREGORIAN
BEGIN:VEVENT
DTSTART:20121013T140000Z
DTEND:20121013T220000Z
X-MICROSOFT-CDO-ALLDAYEVENT:FALSE
SUMMARY:Big BBQ Bash
DESCRIPTION:KCBS State Championship BBQ Cook Off\n\n4th annual United Way of Robertson County Fundraiser
X-ALT-DESC;FMTTYPE=text/html:KCBS State Championship BBQ Cook Off<br />\n4th annual United Way of Robertson County Fundraiser
LOCATION:Robertson County Court House Square in Springfield\, TN
UID:e.1388.186
SEQUENCE:3
DTSTAMP:20260423T191457Z
URL:http://robertsonchamber.chambermaster.com/events/details/big-bbq-bash-10-13-2012-186
END:VEVENT

END:VCALENDAR
